BEGIN:VCALENDAR
VERSION:2.0
PRODID:techtransfer.cancer.gov
BEGIN:VEVENT
UID:69e95a836add2
DTSTART:20230906T140000Z
SEQUENCE:0
TRANSP:OPAQUE
DTEND:20230906T203050Z
LOCATION:Frederick\, MD
SUMMARY:2023 Technology Showcase
CLASS:PUBLIC
DESCRIPTION:7th Annual Technology Showcase Located in Frederick\, MD
DTSTAMP:20260422T233219Z
END:VEVENT
END:VCALENDAR