BEGIN:VCALENDAR
VERSION:2.0
PRODID:techtransfer.cancer.gov
BEGIN:VEVENT
UID:69e92dc93674c
DTSTART:20240522T150000Z
SEQUENCE:0
TRANSP:OPAQUE
DTEND:20240522T160000Z
SUMMARY:Tech Webinar: Pigment Epithelium-Derived Factor Peptides for Treati
 ng Retinal Degeneration
CLASS:PUBLIC
DESCRIPTION:Tech Webinar: Treatment for Retinitis Pigmentosa\, Pigment Epit
 helium-derived Factor Peptides and Use for Treating Retinal Degeneration
DTSTAMP:20260422T202129Z
END:VEVENT
END:VCALENDAR