BEGIN:VCALENDAR
VERSION:2.0
PRODID:techtransfer.cancer.gov
BEGIN:VEVENT
UID:69eb481378d61
DTSTART:20210901T154500Z
SEQUENCE:0
TRANSP:OPAQUE
DTEND:20210901T211500Z
SUMMARY:2021 Technology Showcase
CLASS:PUBLIC
DESCRIPTION:The 2021 Technology Showcase is a virtual event for potential p
 artners to learn about collaboration and licensing opportunities from the 
 National Cancer Institute and the Frederick National Laboratory.
DTSTAMP:20260424T103811Z
END:VEVENT
END:VCALENDAR